BEGIN:VCALENDAR
VERSION:2.0
PRODID:icalendar-ruby
CALSCALE:GREGORIAN
BEGIN:VEVENT
DTSTAMP:20210119T024903Z
UID:a5fdb6cc-778d-4058-914e-07669a9ad406
DTSTART;VALUE=DATE:20200708
DESCRIPTION:Property ID# 483713\, Locatoin: Ray White office 31 Main Street
 \, Upper Hutt\, Time: 12:00PM
SUMMARY:Auction for 
END:VEVENT
END:VCALENDAR
