BEGIN:VCALENDAR
VERSION:2.0
PRODID:icalendar-ruby
CALSCALE:GREGORIAN
BEGIN:VEVENT
DTSTAMP:20210122T000259Z
UID:8fcad2ab-6d59-4af8-99ae-166562725c4e
DTSTART;VALUE=DATE:20200909
DESCRIPTION:Property ID# 488284\, Locatoin: 31 Main Street\, Upper Hutt\, T
 ime: 12:00PM
SUMMARY:Auction for 
END:VEVENT
END:VCALENDAR
