BEGIN:VCALENDAR
VERSION:2.0
PRODID:icalendar-ruby
CALSCALE:GREGORIAN
BEGIN:VEVENT
DTSTAMP:20210119T024857Z
UID:4a763fbf-4abc-4483-adfe-59c10c93a7dc
DTSTART;VALUE=DATE:20201007
DESCRIPTION:Property ID# 490543\, Locatoin: 63A Mcloed Street\, Elderslea\,
  Time: 12:00PM
SUMMARY:Auction for 
END:VEVENT
END:VCALENDAR
