BEGIN:VCALENDAR
VERSION:2.0
PRODID:icalendar-ruby
CALSCALE:GREGORIAN
BEGIN:VEVENT
DTSTAMP:20210119T024854Z
UID:1a1eed84-be1a-4d65-995b-2b3e66b82889
DTSTART;VALUE=DATE:20201104
DESCRIPTION:Property ID# 493406\, Locatoin: 31 Main Street\, Upper Hutt - R
 ay White Office\, Time: 12:00PM
SUMMARY:Auction for 
END:VEVENT
END:VCALENDAR
