BEGIN:VCALENDAR
VERSION:2.0
PRODID:icalendar-ruby
CALSCALE:GREGORIAN
BEGIN:VEVENT
DTSTAMP:20210122T000417Z
UID:1deefc34-fa3c-4b2d-ad41-21b25d194a07
DTSTART;VALUE=DATE:20201120
DESCRIPTION:Property ID# 494666\, Locatoin: 120 Queens Dr\, Lower Hutt\, Ti
 me: 3:00PM
SUMMARY:Auction for 
END:VEVENT
END:VCALENDAR
