BEGIN:VCALENDAR
VERSION:2.0
PRODID:icalendar-ruby
CALSCALE:GREGORIAN
BEGIN:VEVENT
DTSTAMP:20210119T024849Z
UID:7d013b50-b800-4017-8c60-74d27f5b4d18
DTSTART;VALUE=DATE:20201202
DESCRIPTION:Property ID# 496021\, Locatoin: Ray White Upper Hutt office at 
 31 Main Street\, Upper Hutt\, Time: 12:00PM
SUMMARY:Auction for 
END:VEVENT
END:VCALENDAR
