BEGIN:VCALENDAR
VERSION:2.0
PRODID:icalendar-ruby
CALSCALE:GREGORIAN
BEGIN:VEVENT
DTSTAMP:20210119T024852Z
UID:785778cc-783d-44ae-95d6-a24679db7c6b
DTSTART;VALUE=DATE:20201203
DESCRIPTION:Property ID# 496022\, Locatoin: Ray White Upper Hutt office at 
 31 Main Street\, Upper Hutt\, Time: 12:00PM
SUMMARY:Auction for 
END:VEVENT
END:VCALENDAR
