BEGIN:VCALENDAR
VERSION:2.0
PRODID:icalendar-ruby
CALSCALE:GREGORIAN
BEGIN:VEVENT
DTSTAMP:20210121T235902Z
UID:65450925-900a-4088-826f-c72e1af1f7c2
DTSTART;VALUE=DATE:20210202
DESCRIPTION:Property ID# 500081\, Locatoin: 897 Fergusson Drive\, Upper Hut
 t\, Time: 1:00PM
SUMMARY:Auction for 41 Hartford Crescent
END:VEVENT
END:VCALENDAR
