BEGIN:VCALENDAR
VERSION:2.0
PRODID:icalendar-ruby
CALSCALE:GREGORIAN
BEGIN:VEVENT
DTSTAMP:20210119T024411Z
UID:814e4f2d-2f70-46be-a717-1458854e1f5b
DTSTART;TZID=Pacific/Auckland:20210117T130000
DTEND;TZID=Pacific/Auckland:20210117T133000
DESCRIPTION:Property ID# 499362
SUMMARY:Openhome for 14/6 Keys Street
END:VEVENT
END:VCALENDAR
