BEGIN:VCALENDAR
VERSION:2.0
PRODID:icalendar-ruby
CALSCALE:GREGORIAN
BEGIN:VEVENT
DTSTAMP:20210121T235909Z
UID:e8245d71-c869-4d08-bf04-1beedf51c5f7
DTSTART;TZID=Pacific/Auckland:20210124T130000
DTEND;TZID=Pacific/Auckland:20210124T133000
DESCRIPTION:Property ID# 499362
SUMMARY:Openhome for 14/6 Keys Street
END:VEVENT
END:VCALENDAR
