BEGIN:VCALENDAR
VERSION:2.0
PRODID:icalendar-ruby
CALSCALE:GREGORIAN
BEGIN:VEVENT
DTSTAMP:20210121T235918Z
UID:192a4304-5b36-4245-a5ce-aeebca8a7f47
DTSTART;TZID=Pacific/Auckland:20210124T124500
DTEND;TZID=Pacific/Auckland:20210124T131500
DESCRIPTION:Property ID# 497654
SUMMARY:Openhome for 5/30B Wilford Street
END:VEVENT
END:VCALENDAR
