BEGIN:VCALENDAR
VERSION:2.0
PRODID:icalendar-ruby
CALSCALE:GREGORIAN
BEGIN:VEVENT
DTSTAMP:20260421T041832Z
UID:cd727c58-e062-4959-9cd4-4bea6be43629
DTSTART;VALUE=DATE:20191128
DESCRIPTION:Property ID# 466472\, Locatoin: At The Offices of Ray White Lea
 ders\, 31 Main Street\, Upper Hutt.\, Time: 1:00PM
SUMMARY:Auction for 
END:VEVENT
END:VCALENDAR
