BEGIN:VCALENDAR
VERSION:2.0
PRODID:icalendar-ruby
CALSCALE:GREGORIAN
BEGIN:VEVENT
DTSTAMP:20260421T042507Z
UID:396baca2-287d-40c2-b86c-dd07fa1a755b
DTSTART;VALUE=DATE:20191211
DESCRIPTION:Property ID# 467798\, Time: 1:00PM
SUMMARY:Auction for 
END:VEVENT
END:VCALENDAR
