BEGIN:VCALENDAR
VERSION:2.0
PRODID:icalendar-ruby
CALSCALE:GREGORIAN
BEGIN:VEVENT
DTSTAMP:20260421T042618Z
UID:16daad9d-e37f-46ff-8a9d-12eb6fc71f1f
DTSTART;VALUE=DATE:20200318
DESCRIPTION:Property ID# 474353\, Locatoin: At The Offices of Ray White Lea
 ders\, 31 Main Street\, Upper Hutt.\, Time: 4:00PM
SUMMARY:Auction for 
END:VEVENT
END:VCALENDAR
