BEGIN:VCALENDAR
VERSION:2.0
PRODID:icalendar-ruby
CALSCALE:GREGORIAN
BEGIN:VEVENT
DTSTAMP:20260421T042704Z
UID:5b6832f1-07c3-4dcf-ba4d-e3c01b379aaf
DTSTART;VALUE=DATE:20200702
DESCRIPTION:Property ID# 481759\, Time: 1:00PM
SUMMARY:Auction for 
END:VEVENT
END:VCALENDAR
