BEGIN:VCALENDAR
VERSION:2.0
PRODID:icalendar-ruby
CALSCALE:GREGORIAN
BEGIN:VEVENT
DTSTAMP:20260421T042004Z
UID:c58f3607-30aa-4887-97e8-7653aa97785d
DTSTART;VALUE=DATE:20200724
DESCRIPTION:Property ID# 484699\, Locatoin: At The Offices of Ray White Lea
 ders\, 31 Main Street\, Upper Hutt.\, Time: 4:00PM
SUMMARY:Auction for 
END:VEVENT
END:VCALENDAR
