BEGIN:VCALENDAR
VERSION:2.0
PRODID:icalendar-ruby
CALSCALE:GREGORIAN
BEGIN:VEVENT
DTSTAMP:20260421T044235Z
UID:2378f43e-0cb4-48ea-b7f5-a172676d6b69
DTSTART;VALUE=DATE:20201030
DESCRIPTION:Property ID# 492713\, Locatoin: At The Offices of Ray White Lea
 ders\, corner Queens Drive and Kings Crescent\, Lower Hutt.\, Time: 1:00PM
SUMMARY:Auction for 
END:VEVENT
END:VCALENDAR
