BEGIN:VCALENDAR
VERSION:2.0
PRODID:icalendar-ruby
CALSCALE:GREGORIAN
BEGIN:VEVENT
DTSTAMP:20260421T044236Z
UID:85299ce0-ffc0-4650-9867-fd2a5514ae5c
DTSTART;VALUE=DATE:20210401
DESCRIPTION:Property ID# 505848\, Locatoin: At The Offices of Ray White Lea
 ders\, 31 Main Street\, Upper Hutt.\, Time: 1:00PM
SUMMARY:Auction for 
END:VEVENT
END:VCALENDAR
