BEGIN:VCALENDAR
VERSION:2.0
PRODID:icalendar-ruby
CALSCALE:GREGORIAN
BEGIN:VEVENT
DTSTAMP:20260421T044328Z
UID:9b4deb63-b494-4eea-b1b6-92752f5b50f9
DTSTART;VALUE=DATE:20211028
DESCRIPTION:Property ID# 511045\, Locatoin: At The Offices of Ray White Lea
 ders\, 31 Main Street\, Upper Hutt.\, Time: 1:00PM
SUMMARY:Auction for 
END:VEVENT
END:VCALENDAR
