BEGIN:VCALENDAR
VERSION:2.0
PRODID:icalendar-ruby
CALSCALE:GREGORIAN
BEGIN:VEVENT
DTSTAMP:20260421T044154Z
UID:28bbc2b3-e8b2-4b8f-a324-1c54372d1885
DTSTART;VALUE=DATE:20210708
DESCRIPTION:Property ID# 512569\, Locatoin: At The Offices of Ray White Lea
 ders\, 31 Main Street\, Upper Hutt.\, Time: 1:00PM
SUMMARY:Auction for 
END:VEVENT
END:VCALENDAR
