BEGIN:VCALENDAR
VERSION:2.0
PRODID:icalendar-ruby
CALSCALE:GREGORIAN
BEGIN:VEVENT
DTSTAMP:20260421T042535Z
UID:e5165d2c-f5a9-4951-90ee-d5b616c2b39a
DTSTART;VALUE=DATE:20211014
DESCRIPTION:Property ID# 517705\, Locatoin: At the offices of Ray White Lea
 ders\, 31 Main Street\, Upper Hutt. \, Time: 1:00PM
SUMMARY:Auction for 
END:VEVENT
END:VCALENDAR
