BEGIN:VCALENDAR
VERSION:2.0
PRODID:icalendar-ruby
CALSCALE:GREGORIAN
BEGIN:VEVENT
DTSTAMP:20260425T103403Z
UID:d5951000-66b8-485c-8c4c-8c47fe3da1d1
DTSTART;VALUE=DATE:20221026
DESCRIPTION:Property ID# 542992\, Locatoin: Harcourts Building - 516 High S
 treet\, Lower Hutt\, Time: 12:00PM
SUMMARY:Auction for 
END:VEVENT
END:VCALENDAR
